BEGIN:VCALENDAR
VERSION:2.0
PRODID:icalendar-ruby
CALSCALE:GREGORIAN
METHOD:PUBLISH
BEGIN:VEVENT
DTSTAMP:20260422T105844Z
UID:162-361288@fbcstmaryswv.com
DTSTART:20260422T230000Z
DTEND:20260423T000000Z
CLASS:PUBLIC
CREATED:20260420T132016
DESCRIPTION:Join us for our next Church Business Meeting as we gather to di
 scuss important updates\, celebrate what God is doing in our church\, and 
 look ahead to what’s next. These meetings are an important part of stayi
 ng informed\, unified\, and aligned as a church family. We encourage all m
 embers to attend and be part of what God is continuing to do here at First
  Baptist.
LAST-MODIFIED:20260420T132016
LOCATION:Sanctuary
SUMMARY:Business Meeting
URL;VALUE=URI:https://www.fbcstmaryswv.com/events/business-meeting--162/202
 6-04-22
ATTACH;FILENAME=Quarterly-Business-Meeting-Generic.jpg;FMTTYPE=image/jpeg:h
 ttps://dq5pwpg1q8ru0.cloudfront.net/2026/04/20/17/20/16/c6b36697-c3f8-496a
 -88ad-a32199cf497c/Quarterly-Business-Meeting-Generic.jpg
END:VEVENT
END:VCALENDAR
