BEGIN:VCALENDAR
VERSION:2.0
PRODID:icalendar-ruby
CALSCALE:GREGORIAN
METHOD:PUBLISH
BEGIN:VEVENT
DTSTAMP:20260422T123016Z
UID:140-361232@fbcstmaryswv.com
DTSTART:20260423T230000Z
DTEND:20260424T003000Z
CLASS:PUBLIC
CREATED:20260420T124443
DESCRIPTION:A place for men to grow in their faith\, build strong relations
 hips\, and challenge each other to live with purpose.
LAST-MODIFIED:20260420T124443
LOCATION:Family Life Center
SUMMARY:Men's Small Group
URL;VALUE=URI:https://www.fbcstmaryswv.com/events/mens-small-group/2026-04-
 23
ATTACH;FILENAME=Small-Groups.png;FMTTYPE=image/png:https://dq5pwpg1q8ru0.cl
 oudfront.net/2026/04/20/16/44/43/709e263f-a412-4c47-a4bd-eee608526a50/Smal
 l-Groups.png
END:VEVENT
END:VCALENDAR
