BEGIN:VCALENDAR
VERSION:2.0
PRODID:icalendar-ruby
CALSCALE:GREGORIAN
METHOD:PUBLISH
BEGIN:VEVENT
DTSTAMP:20260422T105650Z
UID:134-361227@fbcstmaryswv.com
DTSTART:20260422T220000Z
DTEND:20260422T233000Z
CLASS:PUBLIC
CREATED:20260420T123931
DESCRIPTION:A welcoming group for women in that “in-between” stage of l
 ife—no longer raising young kids\, but not quite ready to slow down eith
 er. This is a space to connect\, support one another\, and walk through li
 fe and faith  together—just real community and encouragement week to we
 ek.
LAST-MODIFIED:20260420T123931
LOCATION:Public Library
SUMMARY:The Ladies
URL;VALUE=URI:https://www.fbcstmaryswv.com/events/the-ladies/2026-04-22
ATTACH;FILENAME=Small-Groups.png;FMTTYPE=image/png:https://dq5pwpg1q8ru0.cl
 oudfront.net/2026/04/20/16/37/28/31ff00a5-accf-47a9-a251-17ec5f91c924/Smal
 l-Groups.png
END:VEVENT
END:VCALENDAR
