BEGIN:VCALENDAR
VERSION:2.0
PRODID:icalendar-ruby
CALSCALE:GREGORIAN
METHOD:PUBLISH
BEGIN:VEVENT
DTSTAMP:20260422T082245Z
UID:153-361284@fbcstmaryswv.com
DTSTART:20260421T140000Z
DTEND:20260421T153000Z
CLASS:PUBLIC
CREATED:20260420T131433
DESCRIPTION:Tuesday Sisters is an incredible gathering of ladies every Tues
 day. This is a great time of fellowship and bible study.\n Come Join us!
LAST-MODIFIED:20260420T131433
LOCATION:Family Life Center
SUMMARY:Tuesday Sisters
URL;VALUE=URI:https://www.fbcstmaryswv.com/events/tuesday-sisters/2026-04-2
 1
ATTACH;FILENAME=Tuesday-Sisters2.jpg;FMTTYPE=image/jpeg:https://dq5pwpg1q8r
 u0.cloudfront.net/2026/04/20/17/14/33/9b976f1d-c0c0-4b72-8afb-650f0f55c162
 /Tuesday-Sisters2.jpg
END:VEVENT
END:VCALENDAR
