BEGIN:VCALENDAR
VERSION:2.0
PRODID:icalendar-ruby
CALSCALE:GREGORIAN
METHOD:PUBLISH
BEGIN:VEVENT
DTSTAMP:20260422T110421Z
UID:146-361238@fbcstmaryswv.com
DTSTART:20260423T230000Z
DTEND:20260424T003000Z
CLASS:PUBLIC
CREATED:20260420T125230
DESCRIPTION:Fitting Room: Putting on the Character of Christ\nWhat does it 
 really look like to live like Jesus in everyday life? This group will walk
  through practical ways to “put on “ the character of Christ—growing
  in things like patience\, forgiveness\, and joy. Through Scripture\, real
 -life stories\, and honest conversation\, you’ll be encouraged to let Go
 d shape your life from the inside out.
LAST-MODIFIED:20260420T125230
LOCATION:Family Life Center
SUMMARY:Women's Group
URL;VALUE=URI:https://www.fbcstmaryswv.com/events/womens-group--146/2026-04
 -23
ATTACH;FILENAME=Small-Groups.png;FMTTYPE=image/png:https://dq5pwpg1q8ru0.cl
 oudfront.net/2026/04/20/16/52/30/5a03021d-85b1-4de2-a5a2-41e567506d44/Smal
 l-Groups.png
END:VEVENT
END:VCALENDAR
